BEGIN:VCALENDAR
VERSION:2.0
PRODID:-//ChamberMaster//Event Calendar 2.0//EN
METHOD:PUBLISH
X-PUBLISHED-TTL:P3D
REFRESH-INTERVAL:P3D
CALSCALE:GREGORIAN
BEGIN:VEVENT
DTSTART:20260511T190000Z
DTEND:20260511T200000Z
X-MICROSOFT-CDO-ALLDAYEVENT:FALSE
SUMMARY:Events Committee Meeting
DESCRIPTION:Join the Pinellas Park Gateway Chamber of Commerce Events Committee for our regular working meeting. Committee members will review upcoming Chamber events\, plan logistics\, discuss sponsorship opportunities\, and coordinate volunteer assignments. Members interested in joining the committee are welcome to attend and learn how they can help shape the Chamber's event programming throughout the year.
X-ALT-DESC;FMTTYPE=text/html:Join the Pinellas Park Gateway Chamber of Commerce Events Committee for our regular working meeting. Committee members will review upcoming Chamber events\, plan logistics\, discuss sponsorship opportunities\, and coordinate volunteer assignments. Members interested in joining the committee are welcome to attend and learn how they can help shape the Chamber&#39\;s event programming throughout the year.
LOCATION:Via Zoom
UID:e.131.19185
SEQUENCE:3
DTSTAMP:20260426T042352Z
URL:https://members.pinellasparkchamber.com/events/details/events-committee-meeting-19185
END:VEVENT

END:VCALENDAR
